BEGIN:VCALENDAR
VERSION:2.0
PRODID:-//wp-events-plugin.com//7.2.3.1//EN
BEGIN:VEVENT
UID:58@citizensplanning.org
DTSTART;TZID=America/Los_Angeles:20260406T120000
DTEND;TZID=America/Los_Angeles:20260406T130000
DTSTAMP:20260407T202644Z
URL:https://www.citizensplanning.org/events/silvia-perea/
SUMMARY:Silvia Perea
DESCRIPTION:Ms. Perea will describe the work of David Gebhard during his lo
 ng and prolific career. She will be able to tell us more about the centenn
 ial and explain how the local community can promote the events.\n\nView on
 line\nPasscode: Vwrp5z?x\n\n
CATEGORIES:Monday Speaker Series
END:VEVENT
BEGIN:VTIMEZONE
TZID:America/Los_Angeles
X-LIC-LOCATION:America/Los_Angeles
BEGIN:DAYLIGHT
DTSTART:20260308T030000
TZOFFSETFROM:-0800
TZOFFSETTO:-0700
TZNAME:PDT
END:DAYLIGHT
END:VTIMEZONE
END:VCALENDAR