BEGIN:VCALENDAR
VERSION:2.0
PRODID:-//wp-events-plugin.com//7.2.3.1//EN
BEGIN:VEVENT
UID:2@citizensplanning.org
DTSTART;TZID=America/Los_Angeles:20211206T180000
DTEND;TZID=America/Los_Angeles:20211206T180000
DTSTAMP:20220107T214141Z
URL:https://www.citizensplanning.org/events/monday-zoom-speakers-series-sb
 -mayor-elect-randy-rowse/
SUMMARY:SB Mayor-Elect Randy Rowse
DESCRIPTION:Santa Barbara Mayor-elect\, Randy Rowse\, focusing on city plan
 ning --- and other city issues\, as time allows!\n\n​To View Click Here\
 n\nAccess Passcode: M9vk.gHE
CATEGORIES:Monday Speaker Series
END:VEVENT
BEGIN:VTIMEZONE
TZID:America/Los_Angeles
X-LIC-LOCATION:America/Los_Angeles
BEGIN:STANDARD
DTSTART:20211107T010000
TZOFFSETFROM:-0700
TZOFFSETTO:-0800
TZNAME:PST
END:STANDARD
END:VTIMEZONE
END:VCALENDAR