BEGIN:VCALENDAR
VERSION:2.0
PRODID:-//wp-events-plugin.com//7.2.3.1//EN
BEGIN:VEVENT
UID:57@citizensplanning.org
DTSTART;TZID=America/Los_Angeles:20260302T120000
DTEND;TZID=America/Los_Angeles:20260302T130000
DTSTAMP:20260305T173019Z
URL:https://www.citizensplanning.org/events/meredith-hendricks-executive-d
 irector-the-land-trust-santa-barbara/
SUMMARY:Meredith Hendricks\, Executive Director\, The Land Trust Santa Barb
 ara
DESCRIPTION:\n\nCPA's March Monday Speaker event features Meredith Hendrick
 s\, Executive Director of The Land Trust Santa Barbara.\n\nWatch on Zoom\n
 \n\n\nPasscode: Wyc2U=M6\n\n
CATEGORIES:Monday Speaker Series
END:VEVENT
BEGIN:VTIMEZONE
TZID:America/Los_Angeles
X-LIC-LOCATION:America/Los_Angeles
BEGIN:STANDARD
DTSTART:20251102T010000
TZOFFSETFROM:-0700
TZOFFSETTO:-0800
TZNAME:PST
END:STANDARD
END:VTIMEZONE
END:VCALENDAR