BEGIN:VCALENDAR
VERSION:2.0
PRODID:-//wp-events-plugin.com//7.2.3.1//EN
BEGIN:VEVENT
UID:3@citizensplanning.org
DTSTART;TZID=America/Los_Angeles:20211101T180000
DTEND;TZID=America/Los_Angeles:20211101T180000
DTSTAMP:20211217T142729Z
URL:https://www.citizensplanning.org/events/joan-hartmann-sb-county-3rd-di
 strict-supervisor/
SUMMARY:Joan Hartmann\, SB County 3rd District Supervisor
DESCRIPTION:Joan Hartmann\, SB County 3rd District Supervisor\, talking abo
 ut the County Recreation Master Plan and more:\n\nhttps://us02web.zoom.us/
 rec/share/m_Kargovn0vYbQ1X37D9SAZ3cqSTor6SQFlLNga41gLYvIjeE2reX4UMvDV2mOPP
 .1e1h3YZMwbnEsnSn\n\nPasscode: Z*&amp\;0Kj&amp\;c
CATEGORIES:Monday Speaker Series
END:VEVENT
BEGIN:VTIMEZONE
TZID:America/Los_Angeles
X-LIC-LOCATION:America/Los_Angeles
BEGIN:DAYLIGHT
DTSTART:20210314T030000
TZOFFSETFROM:-0800
TZOFFSETTO:-0700
TZNAME:PDT
END:DAYLIGHT
END:VTIMEZONE
END:VCALENDAR