BEGIN:VCALENDAR
VERSION:2.0
PRODID:-//wp-events-plugin.com//7.2.3.1//EN
BEGIN:VEVENT
UID:43@citizensplanning.org
DTSTART;TZID=America/Los_Angeles:20240710T120000
DTEND;TZID=America/Los_Angeles:20240710T130000
DTSTAMP:20240702T152647Z
URL:https://www.citizensplanning.org/events/cpa-annual-meeting-2/
SUMMARY:CPA Annual Meeting
DESCRIPTION:Topic: CPA Annual meeting\nTime: Jul 10\, 2024 12:00 PM Pacific
  Time (US and Canada)\n\nJoin Zoom Meeting\nhttps://us02web.zoom.us/j/8342
 8654492?pwd=fV31wob2shgU4XWVUl7ZXhabaxmeMI.1\n\nMeeting ID: 834 2865 4492\
 nPasscode: 591355\n\n---\n\nOne tap mobile\n+16694449171\,\,83428654492#\,
 \,\,\,*591355# US\n+16699006833\,\,83428654492#\,\,\,\,*591355# US (San Jo
 se)\n\n---\n\nDial by your location\n• +1 669 444 9171 US\n• +1 669 90
 0 6833 US (San Jose)\n• +1 253 205 0468 US\n• +1 253 215 8782 US (Taco
 ma)\n• +1 346 248 7799 US (Houston)\n• +1 719 359 4580 US\n• +1 360 
 209 5623 US\n• +1 386 347 5053 US\n• +1 507 473 4847 US\n• +1 564 21
 7 2000 US\n• +1 646 931 3860 US\n• +1 689 278 1000 US\n• +1 929 436 
 2866 US (New York)\n• +1 301 715 8592 US (Washington DC)\n• +1 305 224
  1968 US\n• +1 309 205 3325 US\n• +1 312 626 6799 US (Chicago)\n\nMeet
 ing ID: 834 2865 4492\nPasscode: 591355\n\nFind your local number: https:/
 /us02web.zoom.us/u/kefPhfAjpA\n\n&nbsp\;
CATEGORIES:CPA Board Meetings
END:VEVENT
BEGIN:VTIMEZONE
TZID:America/Los_Angeles
X-LIC-LOCATION:America/Los_Angeles
BEGIN:DAYLIGHT
DTSTART:20240310T030000
TZOFFSETFROM:-0800
TZOFFSETTO:-0700
TZNAME:PDT
END:DAYLIGHT
END:VTIMEZONE
END:VCALENDAR